BEGIN:VCALENDAR
VERSION:2.0
PRODID:spatie/icalendar-generator
DESCRIPTION:Events from Great Lakes Safety Training Center (GLSTC)
X-WR-CALDESC:Events from Great Lakes Safety Training Center (GLSTC)
REFRESH-INTERVAL;VALUE=DURATION:PT1440M
X-PUBLISHED-TTL:PT1440M
BEGIN:VTIMEZONE
TZID:America/Detroit
BEGIN:STANDARD
DTSTART:20241103T020000Z
TZOFFSETFROM:-0400
TZOFFSETTO:-0500
END:STANDARD
BEGIN:DAYLIGHT
DTSTART:20250309T020000Z
TZOFFSETFROM:-0500
TZOFFSETTO:-0400
END:DAYLIGHT
END:VTIMEZONE
BEGIN:VTIMEZONE
TZID:UTC
BEGIN:STANDARD
DTSTART:20250724T084530Z
TZOFFSETFROM:+0000
TZOFFSETTO:+0000
END:STANDARD
END:VTIMEZONE
BEGIN:VEVENT
UID:924-68
DTSTAMP:20260420T084530Z
SUMMARY:Arc Flash Awareness
LOCATION:
ORGANIZER;CN=GLSTC:MAILTO:jdougherty@glstc.org
DTSTART;TZID=America/Detroit:20250218T073000
DTEND;TZID=America/Detroit:20250218T113000
X-ALT-DESC;FMTTYPE=TEXT/HTML:
CATEGORIES:Instructor Led,  Hands On
URL;VALUE=URI:https://glstc.org/training-events/arc-flash-awareness-2/
METHOD:PUBLISH
END:VEVENT
END:VCALENDAR